BEGIN:VCALENDAR
VERSION:2.0
PRODID:-//wp-events-plugin.com//7.2.3.1//EN
TZID:Europe/Amsterdam
X-WR-TIMEZONE:Europe/Amsterdam
BEGIN:VEVENT
UID:282@zuidoostbeweegt.nl
DTSTART:20240703T103000Z
DTEND:20240703T120000Z
DTSTAMP:20240502T112456Z
URL:https://zuidoostbeweegt.nl/events/fietsles-voor-volwassenen-3-2024-07-
 03/
SUMMARY:Fietsles voor volwassenen
DESCRIPTION:De gemeente Amsterdam organiseert opnieuw in samenwerking met S
 ciandri een fietscursus in Zuidoost. De cursus is voor volwassenen vanaf 1
 8 jaar die willen leren fietsen. Tijdens deze lessen oefen je met opstappe
 n\, doortrappen en uiteindelijk fietsen in het verkeer. Na deze cursus kan
  je veilig het verkeer in met alle regels die erbij horen en leer je ook j
 ouw eigen fiets repareren. De cursus wordt gegeven door ervaren instructeu
 rs. Zij begeleiden jou stap voor stap\, zodat je vol zelfvertrouwen op de 
 fiets stapt.\nBij het behalen van je fietsdiploma krijg je van de docent g
 ratis een tweedehands fiets.\nMeld je aan bij Yvonne Schoenmaker via e-mai
 l yvonne.sciandri@gmail.com of bel 06 51275719. Let op: aanmelden is verpl
 icht!\nData:\nWoensdag 1 mei en vrijdag 3 mei start cursus\nWoensdag 8 mei
  en vrijdag 10 mei verkeersles\nWoensdag 29 mei vrijdag 31 mei les van de 
 fietsenmaker\nWoensdag 3 juli en vrijdag 5 juli\n\nKosten:\nMet stadspas 
 €30\,-\nZonder stadspas €80\,-
ATTACH;FMTTYPE=image/jpeg:https://zuidoostbeweegt.nl/wp-content/uploads/20
 24/01/7.png
CATEGORIES:18+
LOCATION:Sporthal Gaasperdam\, Ravenswaaipad 5\, Amsterdam\, Nederland
X-APPLE-STRUCTURED-LOCATION;VALUE=URI;X-ADDRESS=Ravenswaaipad 5\, Amsterdam
 \, Nederland;X-APPLE-RADIUS=100;X-TITLE=Sporthal Gaasperdam:geo:0,0
END:VEVENT
END:VCALENDAR