BEGIN:VCALENDAR
VERSION:2.0
PRODID:-//wp-events-plugin.com//7.2.3.1//EN
TZID:Europe/Amsterdam
X-WR-TIMEZONE:Europe/Amsterdam
BEGIN:VEVENT
UID:6464@zuidoostbeweegt.nl
DTSTART:20260313T153000Z
DTEND:20260313T173000Z
DTSTAMP:20260305T103957Z
URL:https://zuidoostbeweegt.nl/events/meidenactiviteiten-i-sportspecial/
SUMMARY:Meidenactiviteiten - I-SportSpecial
DESCRIPTION:
ATTACH;FMTTYPE=image/jpeg:https://zuidoostbeweegt.nl/wp-content/uploads/20
 25/07/Logo_I-Sport_Special_ZOB.png
LOCATION:Buurthuis Gein\, Wisseloord 83\, Amsterdam\, 1107 NB\, Nederland
X-APPLE-STRUCTURED-LOCATION;VALUE=URI;X-ADDRESS=Wisseloord 83\, Amsterdam\,
  1107 NB\, Nederland;X-APPLE-RADIUS=100;X-TITLE=Buurthuis Gein:geo:0,0
END:VEVENT
END:VCALENDAR