BEGIN:VCALENDAR
VERSION:2.0
PRODID:-//wp-events-plugin.com//7.2.3.1//EN
TZID:Europe/Amsterdam
X-WR-TIMEZONE:Europe/Amsterdam
BEGIN:VEVENT
UID:439@zuidoostbeweegt.nl
DTSTART:20240819T180000Z
DTEND:20240819T190000Z
DTSTAMP:20240817T091341Z
URL:https://zuidoostbeweegt.nl/events/profor-special-training-2024-08-19/
SUMMARY:ProFor Special training
DESCRIPTION:Elke maandag van 18.00 tot 19.00 uur.\nLocatie: Huntum 14 in Am
 sterdam Zuidoost (gymzaal van basisschool de Achtsprong)\n- Senioren 55+\n
 - Kinderen en jongvolwassenen met en zonder beperking/ouder-kind training 
 voor de zwaarbeperkten.
ATTACH;FMTTYPE=image/jpeg:https://zuidoostbeweegt.nl/wp-content/uploads/20
 24/03/Thumbnails-activiteiten-website-4-copy.png
CATEGORIES:12-16 jaar,12-18 jaar,18+,4-12 jaar,55+,6-11 jaar,6-12 jaar,9+
LOCATION:Gymzaal Kortvoort\, Klateringpad 1\, Amsterdam\, 1104 NA \, Nauru
X-APPLE-STRUCTURED-LOCATION;VALUE=URI;X-ADDRESS=Klateringpad 1\, Amsterdam\
 , 1104 NA \, Nauru;X-APPLE-RADIUS=100;X-TITLE=Gymzaal Kortvoort:geo:0,0
END:VEVENT
END:VCALENDAR